BEGIN:VCALENDAR
VERSION:2.0
PRODID:-//PC-SCOL - ECPv6.2.0.1//NONSGML v1.0//EN
CALSCALE:GREGORIAN
METHOD:PUBLISH
X-ORIGINAL-URL:https://www.pc-scol.fr
X-WR-CALDESC:évènements pour PC-SCOL
REFRESH-INTERVAL;VALUE=DURATION:PT1H
X-Robots-Tag:noindex
X-PUBLISHED-TTL:PT1H
BEGIN:VTIMEZONE
TZID:UTC
BEGIN:STANDARD
TZOFFSETFROM:+0000
TZOFFSETTO:+0000
TZNAME:UTC
DTSTART:20210101T000000
END:STANDARD
END:VTIMEZONE
BEGIN:VEVENT
DTSTART;VALUE=DATE:20210921
DTEND;VALUE=DATE:20210924
DTSTAMP:20260425T123000
CREATED:20210831T084203Z
LAST-MODIFIED:20210920T144513Z
UID:742-1632182400-1632441599@www.pc-scol.fr
SUMMARY:PI Planning 4ième trimestre 2021 (V2.3)
DESCRIPTION:Planification des travaux des équipes à réaliser entre le 27/09 et le 10/12/21
URL:https://www.pc-scol.fr/evenement/pi-planning-4ieme-trimestre-2021-v2-3/
LOCATION:Montpellier
CATEGORIES:PI planning
END:VEVENT
END:VCALENDAR