BEGIN:VCALENDAR
VERSION:2.0
PRODID:-//PC-SCOL - ECPv6.2.0.1//NONSGML v1.0//EN
CALSCALE:GREGORIAN
METHOD:PUBLISH
X-ORIGINAL-URL:https://www.pc-scol.fr
X-WR-CALDESC:évènements pour PC-SCOL
REFRESH-INTERVAL;VALUE=DURATION:PT1H
X-Robots-Tag:noindex
X-PUBLISHED-TTL:PT1H
BEGIN:VTIMEZONE
TZID:UTC
BEGIN:STANDARD
TZOFFSETFROM:+0000
TZOFFSETTO:+0000
TZNAME:UTC
DTSTART:20210101T000000
END:STANDARD
END:VTIMEZONE
BEGIN:VEVENT
DTSTART;TZID=UTC:20210503T140000
DTEND;TZID=UTC:20210503T170000
DTSTAMP:20260425T181116
CREATED:20210422T101410Z
LAST-MODIFIED:20210422T103410Z
UID:618-1620050400-1620061200@www.pc-scol.fr
SUMMARY:Formation Reprise de données Inscription
DESCRIPTION:
URL:https://www.pc-scol.fr/evenement/formation-reprise-de-donnees-inscription/
CATEGORIES:Formation
END:VEVENT
BEGIN:VEVENT
DTSTART;TZID=UTC:20210505T090000
DTEND;TZID=UTC:20210505T120000
DTSTAMP:20260425T181116
CREATED:20210422T101458Z
LAST-MODIFIED:20210422T103403Z
UID:620-1620205200-1620216000@www.pc-scol.fr
SUMMARY:Formation Reprise de données Inscription
DESCRIPTION:
URL:https://www.pc-scol.fr/evenement/formation-reprise-de-donnees-inscription-2/
CATEGORIES:Formation
END:VEVENT
BEGIN:VEVENT
DTSTART;TZID=UTC:20210505T140000
DTEND;TZID=UTC:20210505T160000
DTSTAMP:20260425T181116
CREATED:20210422T102421Z
LAST-MODIFIED:20210422T103357Z
UID:632-1620223200-1620230400@www.pc-scol.fr
SUMMARY:Atelier thématique "Gestion administrative et pédagogique des stages" - Priorisation
DESCRIPTION:
URL:https://www.pc-scol.fr/evenement/atelier-thematique-gestion-administrative-et-pedagogique-des-stages-priorisation/
CATEGORIES:Atelier thématique
END:VEVENT
BEGIN:VEVENT
DTSTART;TZID=UTC:20210506T140000
DTEND;TZID=UTC:20210506T160000
DTSTAMP:20260425T181116
CREATED:20210413T123153Z
LAST-MODIFIED:20210422T103350Z
UID:600-1620309600-1620316800@www.pc-scol.fr
SUMMARY:Formation INS - Session 1 - Ecoles
DESCRIPTION:Préparation des inscriptions : Partie 2\n\nPré-requis (paramétrages REF\, INS\, PAI\, éditions)\net injection des candidatures
URL:https://www.pc-scol.fr/evenement/formation-ins-session-1-ecoles/
CATEGORIES:Formation
END:VEVENT
BEGIN:VEVENT
DTSTART;TZID=UTC:20210507T100000
DTEND;TZID=UTC:20210507T120000
DTSTAMP:20260425T181116
CREATED:20210413T123406Z
LAST-MODIFIED:20210510T073435Z
UID:602-1620381600-1620388800@www.pc-scol.fr
SUMMARY:Formation INS - Session 2 - Universités
DESCRIPTION:Préparation des inscriptions : Partie 2\n\nPré-requis (paramétrages REF\, INS\, PAI\, éditions)\ninjection des candidatures
URL:https://www.pc-scol.fr/evenement/formation-ins-session-2-universites/
CATEGORIES:Formation
END:VEVENT
BEGIN:VEVENT
DTSTART;TZID=UTC:20210517T140000
DTEND;TZID=UTC:20210517T163000
DTSTAMP:20260425T181116
CREATED:20210510T073029Z
LAST-MODIFIED:20210510T073455Z
UID:654-1621260000-1621269000@www.pc-scol.fr
SUMMARY:Formation Inscription apprenant et gestionnaire  / Suivi gestionnaire - Ecoles
DESCRIPTION:Module INS (Inscription) \n\nInscription apprenant en ligne\nInscription par le gestionnaire\nSuivi gestionnaire (inscriptions\, paiements\, éditions…)
URL:https://www.pc-scol.fr/evenement/formation-inscription-apprenant-et-gestionnaire-suivi-gestionnaire-ecoles/
CATEGORIES:Formation
END:VEVENT
BEGIN:VEVENT
DTSTART;TZID=UTC:20210518T093000
DTEND;TZID=UTC:20210518T120000
DTSTAMP:20260425T181116
CREATED:20210510T073321Z
LAST-MODIFIED:20210510T073418Z
UID:656-1621330200-1621339200@www.pc-scol.fr
SUMMARY:Formation Inscription apprenant et gestionnaire  / Suivi gestionnaire - Universités
DESCRIPTION:Module INS (Inscription) \n\nInscription apprenant en ligne\nInscription par le gestionnaire\nSuivi gestionnaire (inscriptions\, paiements\, éditions…)
URL:https://www.pc-scol.fr/evenement/formation-inscription-apprenant-et-gestionnaire-suivi-gestionnaire-universites/
CATEGORIES:Formation
END:VEVENT
BEGIN:VEVENT
DTSTART;TZID=UTC:20210525T093000
DTEND;TZID=UTC:20210525T120000
DTSTAMP:20260425T181116
CREATED:20210422T101952Z
LAST-MODIFIED:20210512T143015Z
UID:626-1621935000-1621944000@www.pc-scol.fr
SUMMARY:Formation Choix du cursus - Ecoles
DESCRIPTION:
URL:https://www.pc-scol.fr/evenement/formation-choix-du-cursus/
CATEGORIES:Formation
END:VEVENT
BEGIN:VEVENT
DTSTART;TZID=UTC:20210527T090000
DTEND;TZID=UTC:20210527T120000
DTSTAMP:20260425T181116
CREATED:20210504T071004Z
LAST-MODIFIED:20210504T071004Z
UID:645-1622106000-1622116800@www.pc-scol.fr
SUMMARY:Conférence "Connaître et déployer Pégase"
DESCRIPTION:Connaitre et déployer Pégase – le 27 Mai 2021\n\nA vos agendas ! L’équipe du projet PC- Scol  organise une  web conférence consacrée à la présentation des modules Pégase et son périmètre cible\, ainsi qu’ à la stratégie de déploiement de la solution. Vous pourrez ensuite vous positionner pour la vague de déploiement sur l’année universitaire 2023-2024.\n \n\n1ière partie –  Découvrir Pégase \n\nLa première partie de cette conférence sera dédiée à la présentation du projet et de ses grands principes\, ainsi qu’à la présentation du produit Pégase\, les équipes feront un focus sur les principales fonctionnalités déjà présentes dans les modules de la solution.\n\n\n2ième partie – Organisation en production \n\nLa deuxième partie abordera les points concernant l’hébergement de la solution\, la co-administration et  le support\n\n\n\n\n3ième partie –  Déployer Pégase \n\nLa troisième partie sera consacrée à la présentation de la stratégie de déploiement de la solution Pégase et les modalités de candidature pour une utilisation dès la rentrée universitaire 2023/2024\n\n\n\nCette conférence s’adresse principalement aux directions générales des services\, directions des systèmes d’information\, directions de la vie étudiante et plus globalement\, à tous les acteurs de la vie étudiante. \nPour vous inscrire\, suivez ce lien
URL:https://www.pc-scol.fr/evenement/conference-connaitre-et-deployer-pegase/
LOCATION:Distanciel
END:VEVENT
BEGIN:VEVENT
DTSTART;TZID=UTC:20210528T100000
DTEND;TZID=UTC:20210528T120000
DTSTAMP:20260425T181116
CREATED:20210422T102836Z
LAST-MODIFIED:20210422T103221Z
UID:636-1622196000-1622203200@www.pc-scol.fr
SUMMARY:Atelier thématique "La pédagogie de demain et la gestion des compétences" - Priorisation
DESCRIPTION:
URL:https://www.pc-scol.fr/evenement/atelier-thematique-la-pedagogie-de-demain-et-la-gestion-des-competences-priorisation/
CATEGORIES:Atelier thématique
END:VEVENT
END:VCALENDAR