BEGIN:VCALENDAR
VERSION:2.0
PRODID:-//PC-SCOL - ECPv6.2.0.1//NONSGML v1.0//EN
CALSCALE:GREGORIAN
METHOD:PUBLISH
X-WR-CALNAME:PC-SCOL
X-ORIGINAL-URL:https://www.pc-scol.fr
X-WR-CALDESC:évènements pour PC-SCOL
REFRESH-INTERVAL;VALUE=DURATION:PT1H
X-Robots-Tag:noindex
X-PUBLISHED-TTL:PT1H
BEGIN:VTIMEZONE
TZID:UTC
BEGIN:STANDARD
TZOFFSETFROM:+0000
TZOFFSETTO:+0000
TZNAME:UTC
DTSTART:20210101T000000
END:STANDARD
END:VTIMEZONE
BEGIN:VEVENT
DTSTART;TZID=UTC:20210427T093000
DTEND;TZID=UTC:20210427T120000
DTSTAMP:20260425T192706
CREATED:20210331T142551Z
LAST-MODIFIED:20210422T103433Z
UID:585-1619515800-1619524800@www.pc-scol.fr
SUMMARY:Formation MOF - Session 1 - Écoles
DESCRIPTION:Mise en œuvre des formations\n\n\nPréparation des inscriptions : Partie 1 (Actualisation administrative\, ouverture à l’inscription\, calendrier\, paramétrage des droits)
URL:https://www.pc-scol.fr/evenement/formation-mof-preparation-des-inscriptions/
LOCATION:Distanciel
CATEGORIES:Formation
END:VEVENT
BEGIN:VEVENT
DTSTART;TZID=UTC:20210427T140000
DTEND;TZID=UTC:20210427T163000
DTSTAMP:20260425T192706
CREATED:20210331T142707Z
LAST-MODIFIED:20210422T103426Z
UID:587-1619532000-1619541000@www.pc-scol.fr
SUMMARY:Formation MOF - Session 1 - Universités
DESCRIPTION:Mise en œuvre des formations\n\n\nPréparation des inscriptions : Partie 1 (Actualisation administrative\, ouverture à l’inscription\, calendrier\, paramétrage des droits)
URL:https://www.pc-scol.fr/evenement/formation-mof-preparation-des-inscriptions-session-2/
LOCATION:Distanciel
CATEGORIES:Formation
END:VEVENT
BEGIN:VEVENT
DTSTART;TZID=UTC:20210428T140000
DTEND;TZID=UTC:20210428T170000
DTSTAMP:20260425T192706
CREATED:20210413T123628Z
LAST-MODIFIED:20210422T103420Z
UID:604-1619618400-1619629200@www.pc-scol.fr
SUMMARY:PC-Scol - La pédagogie de demain et la gestion des compétences - Atelier avec les écoles
DESCRIPTION:
URL:https://www.pc-scol.fr/evenement/pc-scol-la-pedagogie-de-demain-et-la-gestion-des-competences-atelier-avec-les-ecoles/
CATEGORIES:Atelier thématique
END:VEVENT
END:VCALENDAR