BEGIN:VCALENDAR
VERSION:2.0
PRODID:-//PC-SCOL - ECPv6.2.0.1//NONSGML v1.0//EN
CALSCALE:GREGORIAN
METHOD:PUBLISH
X-ORIGINAL-URL:https://www.pc-scol.fr
X-WR-CALDESC:évènements pour PC-SCOL
REFRESH-INTERVAL;VALUE=DURATION:PT1H
X-Robots-Tag:noindex
X-PUBLISHED-TTL:PT1H
BEGIN:VTIMEZONE
TZID:UTC
BEGIN:STANDARD
TZOFFSETFROM:+0000
TZOFFSETTO:+0000
TZNAME:UTC
DTSTART:20210101T000000
END:STANDARD
END:VTIMEZONE
BEGIN:VEVENT
DTSTART;TZID=UTC:20211201T140000
DTEND;TZID=UTC:20211203T123000
DTSTAMP:20260425T111254
CREATED:20211118T130015Z
LAST-MODIFIED:20211118T130347Z
UID:861-1638367200-1638534600@www.pc-scol.fr
SUMMARY:INS-3 : Inscrire des apprenants - session 2
DESCRIPTION:
URL:https://www.pc-scol.fr/evenement/ins-3-inscrire-des-apprenants-session-2/
LOCATION:Université Toulouse 1 Capitole\, 11\, rue des Puits-Creusés\, toulouse\, France
CATEGORIES:Formation
END:VEVENT
END:VCALENDAR