BEGIN:VCALENDAR
VERSION:2.0
PRODID:-//PC-SCOL - ECPv6.2.0.1//NONSGML v1.0//EN
CALSCALE:GREGORIAN
METHOD:PUBLISH
X-WR-CALNAME:PC-SCOL
X-ORIGINAL-URL:https://www.pc-scol.fr
X-WR-CALDESC:évènements pour PC-SCOL
REFRESH-INTERVAL;VALUE=DURATION:PT1H
X-Robots-Tag:noindex
X-PUBLISHED-TTL:PT1H
BEGIN:VTIMEZONE
TZID:UTC
BEGIN:STANDARD
TZOFFSETFROM:+0000
TZOFFSETTO:+0000
TZNAME:UTC
DTSTART:20210101T000000
END:STANDARD
END:VTIMEZONE
BEGIN:VEVENT
DTSTART;TZID=UTC:20211123T093000
DTEND;TZID=UTC:20211123T120000
DTSTAMP:20260425T111043
CREATED:20211028T073349Z
LAST-MODIFIED:20211028T075212Z
UID:824-1637659800-1637668800@www.pc-scol.fr
SUMMARY:INS-1 : Préparation des inscriptions - Partie 1
DESCRIPTION:Session 2
URL:https://www.pc-scol.fr/evenement/ins-1-preparation-des-inscriptions-partie-1-2/
LOCATION:Distanciel
CATEGORIES:Formation
END:VEVENT
BEGIN:VEVENT
DTSTART;TZID=UTC:20211123T140000
DTEND;TZID=UTC:20211123T163000
DTSTAMP:20260425T111043
CREATED:20211028T073432Z
LAST-MODIFIED:20211028T075225Z
UID:826-1637676000-1637685000@www.pc-scol.fr
SUMMARY:INS-1 : Préparation des inscriptions - Partie 1
DESCRIPTION:Session 3
URL:https://www.pc-scol.fr/evenement/ins-1-preparation-des-inscriptions-partie-1-3/
LOCATION:Distanciel
CATEGORIES:Formation
END:VEVENT
END:VCALENDAR