BEGIN:VCALENDAR
VERSION:2.0
PRODID:-//PC-SCOL - ECPv6.2.0.1//NONSGML v1.0//EN
CALSCALE:GREGORIAN
METHOD:PUBLISH
X-ORIGINAL-URL:https://www.pc-scol.fr
X-WR-CALDESC:évènements pour PC-SCOL
REFRESH-INTERVAL;VALUE=DURATION:PT1H
X-Robots-Tag:noindex
X-PUBLISHED-TTL:PT1H
BEGIN:VTIMEZONE
TZID:UTC
BEGIN:STANDARD
TZOFFSETFROM:+0000
TZOFFSETTO:+0000
TZNAME:UTC
DTSTART:20210101T000000
END:STANDARD
END:VTIMEZONE
BEGIN:VEVENT
DTSTART;TZID=UTC:20211119T140000
DTEND;TZID=UTC:20211119T160000
DTSTAMP:20260425T111214
CREATED:20211028T073204Z
LAST-MODIFIED:20211028T075158Z
UID:820-1637330400-1637337600@www.pc-scol.fr
SUMMARY:INS : Présentation générale du module
DESCRIPTION:
URL:https://www.pc-scol.fr/evenement/ins-presentation-generale-du-module/
LOCATION:Distanciel
CATEGORIES:Formation
END:VEVENT
END:VCALENDAR