BEGIN:VCALENDAR
VERSION:2.0
PRODID:-//PC-SCOL - ECPv6.2.0.1//NONSGML v1.0//EN
CALSCALE:GREGORIAN
METHOD:PUBLISH
X-WR-CALNAME:PC-SCOL
X-ORIGINAL-URL:https://www.pc-scol.fr
X-WR-CALDESC:évènements pour PC-SCOL
REFRESH-INTERVAL;VALUE=DURATION:PT1H
X-Robots-Tag:noindex
X-PUBLISHED-TTL:PT1H
BEGIN:VTIMEZONE
TZID:UTC
BEGIN:STANDARD
TZOFFSETFROM:+0000
TZOFFSETTO:+0000
TZNAME:UTC
DTSTART:20210101T000000
END:STANDARD
END:VTIMEZONE
BEGIN:VEVENT
DTSTART;TZID=UTC:20211112T090000
DTEND;TZID=UTC:20211112T120000
DTSTAMP:20260425T111137
CREATED:20210920T152929Z
LAST-MODIFIED:20210920T153727Z
UID:788-1636707600-1636718400@www.pc-scol.fr
SUMMARY:COF-1 Créer une maquette de formation et la faire évoluer dans le temps
DESCRIPTION:COF-1 Créer une maquette de formation et la faire évoluer dans le temps \nSession 3
URL:https://www.pc-scol.fr/evenement/cof-1-creer-une-maquette-de-formation-et-la-faire-evoluer-dans-le-temps-3/
LOCATION:Distanciel
CATEGORIES:Formation
END:VEVENT
BEGIN:VEVENT
DTSTART;TZID=UTC:20211112T140000
DTEND;TZID=UTC:20211112T160000
DTSTAMP:20260425T111137
CREATED:20211028T072404Z
LAST-MODIFIED:20211028T075108Z
UID:810-1636725600-1636732800@www.pc-scol.fr
SUMMARY:COF-2 : Focus sur la mutualisation
DESCRIPTION:Session 2
URL:https://www.pc-scol.fr/evenement/cof-2-focus-sur-la-mutualisation-2/
LOCATION:Distanciel
CATEGORIES:Formation
END:VEVENT
END:VCALENDAR