BEGIN:VCALENDAR
VERSION:2.0
PRODID:-//PC-SCOL - ECPv6.2.0.1//NONSGML v1.0//EN
CALSCALE:GREGORIAN
METHOD:PUBLISH
X-ORIGINAL-URL:https://www.pc-scol.fr
X-WR-CALDESC:évènements pour PC-SCOL
REFRESH-INTERVAL;VALUE=DURATION:PT1H
X-Robots-Tag:noindex
X-PUBLISHED-TTL:PT1H
BEGIN:VTIMEZONE
TZID:UTC
BEGIN:STANDARD
TZOFFSETFROM:+0000
TZOFFSETTO:+0000
TZNAME:UTC
DTSTART:20210101T000000
END:STANDARD
END:VTIMEZONE
BEGIN:VEVENT
DTSTART;TZID=UTC:20211109T140000
DTEND;TZID=UTC:20211109T160000
DTSTAMP:20260425T111345
CREATED:20211028T072120Z
LAST-MODIFIED:20211028T072120Z
UID:808-1636466400-1636473600@www.pc-scol.fr
SUMMARY:COF-2 : Focus sur la mutualisation
DESCRIPTION:Session 1
URL:https://www.pc-scol.fr/evenement/cof-2-focus-sur-la-mutualisation/
LOCATION:Distanciel
END:VEVENT
END:VCALENDAR