BEGIN:VCALENDAR
VERSION:2.0
PRODID:-//PC-SCOL - ECPv6.2.0.1//NONSGML v1.0//EN
CALSCALE:GREGORIAN
METHOD:PUBLISH
X-WR-CALNAME:PC-SCOL
X-ORIGINAL-URL:https://www.pc-scol.fr
X-WR-CALDESC:évènements pour PC-SCOL
REFRESH-INTERVAL;VALUE=DURATION:PT1H
X-Robots-Tag:noindex
X-PUBLISHED-TTL:PT1H
BEGIN:VTIMEZONE
TZID:UTC
BEGIN:STANDARD
TZOFFSETFROM:+0000
TZOFFSETTO:+0000
TZNAME:UTC
DTSTART:20210101T000000
END:STANDARD
END:VTIMEZONE
BEGIN:VEVENT
DTSTART;TZID=UTC:20211108T090000
DTEND;TZID=UTC:20211108T120000
DTSTAMP:20260425T111034
CREATED:20210920T152431Z
LAST-MODIFIED:20210920T153444Z
UID:783-1636362000-1636372800@www.pc-scol.fr
SUMMARY:COF-1 : Créer une maquette de formation et la faire évoluer dans le temps
DESCRIPTION:COF-1 : Créer une maquette de formation et la faire évoluer dans le temps \nSession 1
URL:https://www.pc-scol.fr/evenement/cof-1-creer-une-maquette-de-formation-et-la-faire-evoluer-dans-le-temps/
LOCATION:Distanciel
CATEGORIES:Formation
END:VEVENT
END:VCALENDAR