BEGIN:VCALENDAR
VERSION:2.0
PRODID:-//PC-SCOL - ECPv6.2.0.1//NONSGML v1.0//EN
CALSCALE:GREGORIAN
METHOD:PUBLISH
X-WR-CALNAME:PC-SCOL
X-ORIGINAL-URL:https://www.pc-scol.fr
X-WR-CALDESC:évènements pour PC-SCOL
REFRESH-INTERVAL;VALUE=DURATION:PT1H
X-Robots-Tag:noindex
X-PUBLISHED-TTL:PT1H
BEGIN:VTIMEZONE
TZID:UTC
BEGIN:STANDARD
TZOFFSETFROM:+0000
TZOFFSETTO:+0000
TZNAME:UTC
DTSTART:20210101T000000
END:STANDARD
END:VTIMEZONE
BEGIN:VEVENT
DTSTART;TZID=UTC:20211014T140000
DTEND;TZID=UTC:20211014T153000
DTSTAMP:20260425T122732
CREATED:20210920T152008Z
LAST-MODIFIED:20210920T153544Z
UID:779-1634220000-1634225400@www.pc-scol.fr
SUMMARY:COF : Présentation des concepts de modélisation avec Pégase
DESCRIPTION:COF : Présentation des concepts de modélisation avec Pégase \nSession 2 Ecoles
URL:https://www.pc-scol.fr/evenement/cof-presentation-des-concepts-de-modelisation-avec-pegase-2/
LOCATION:Distanciel
CATEGORIES:Formation
END:VEVENT
END:VCALENDAR