BEGIN:VCALENDAR
VERSION:2.0
PRODID:-//PC-SCOL - ECPv6.2.0.1//NONSGML v1.0//EN
CALSCALE:GREGORIAN
METHOD:PUBLISH
X-ORIGINAL-URL:https://www.pc-scol.fr
X-WR-CALDESC:évènements pour PC-SCOL
REFRESH-INTERVAL;VALUE=DURATION:PT1H
X-Robots-Tag:noindex
X-PUBLISHED-TTL:PT1H
BEGIN:VTIMEZONE
TZID:UTC
BEGIN:STANDARD
TZOFFSETFROM:+0000
TZOFFSETTO:+0000
TZNAME:UTC
DTSTART:20210101T000000
END:STANDARD
END:VTIMEZONE
BEGIN:VEVENT
DTSTART;TZID=UTC:20211012T100000
DTEND;TZID=UTC:20211012T113000
DTSTAMP:20260425T122854
CREATED:20210920T151704Z
LAST-MODIFIED:20210920T153611Z
UID:776-1634032800-1634038200@www.pc-scol.fr
SUMMARY:COF : Présentation des concepts de modélisation avec Pégase
DESCRIPTION:COF : Présentation des concepts de modélisation avec Pégase \nSession Universités
URL:https://www.pc-scol.fr/evenement/cof-presentation-des-concepts-de-modelisation-avec-pegase/
LOCATION:Distanciel
CATEGORIES:Formation
END:VEVENT
END:VCALENDAR