BEGIN:VCALENDAR
VERSION:2.0
PRODID:-//PC-SCOL - ECPv6.2.0.1//NONSGML v1.0//EN
CALSCALE:GREGORIAN
METHOD:PUBLISH
X-ORIGINAL-URL:https://www.pc-scol.fr
X-WR-CALDESC:évènements pour PC-SCOL
REFRESH-INTERVAL;VALUE=DURATION:PT1H
X-Robots-Tag:noindex
X-PUBLISHED-TTL:PT1H
BEGIN:VTIMEZONE
TZID:UTC
BEGIN:STANDARD
TZOFFSETFROM:+0000
TZOFFSETTO:+0000
TZNAME:UTC
DTSTART:20210101T000000
END:STANDARD
END:VTIMEZONE
BEGIN:VEVENT
DTSTART;TZID=UTC:20211005T100000
DTEND;TZID=UTC:20211005T120000
DTSTAMP:20260425T123316
CREATED:20210920T150744Z
LAST-MODIFIED:20210920T150744Z
UID:774-1633428000-1633435200@www.pc-scol.fr
SUMMARY:Présentation générale du module REF
DESCRIPTION:
URL:https://www.pc-scol.fr/evenement/presentation-generale-du-module-ref/
LOCATION:Distanciel
CATEGORIES:Formation
END:VEVENT
BEGIN:VEVENT
DTSTART;TZID=UTC:20211005T140000
DTEND;TZID=UTC:20211005T163000
DTSTAMP:20260425T123316
CREATED:20210917T125127Z
LAST-MODIFIED:20210917T125127Z
UID:768-1633442400-1633451400@www.pc-scol.fr
SUMMARY:Comité de pilotage
DESCRIPTION:
URL:https://www.pc-scol.fr/evenement/comite-de-pilotage/
LOCATION:Maison des Universités – Salle de Conférence\, 103 Boulevard Saint Michel\, 75005 Paris
END:VEVENT
END:VCALENDAR