BEGIN:VCALENDAR
VERSION:2.0
PRODID:-//PC-SCOL - ECPv6.2.0.1//NONSGML v1.0//EN
CALSCALE:GREGORIAN
METHOD:PUBLISH
X-ORIGINAL-URL:https://www.pc-scol.fr
X-WR-CALDESC:évènements pour PC-SCOL
REFRESH-INTERVAL;VALUE=DURATION:PT1H
X-Robots-Tag:noindex
X-PUBLISHED-TTL:PT1H
BEGIN:VTIMEZONE
TZID:UTC
BEGIN:STANDARD
TZOFFSETFROM:+0000
TZOFFSETTO:+0000
TZNAME:UTC
DTSTART:20210101T000000
END:STANDARD
END:VTIMEZONE
BEGIN:VEVENT
DTSTART;VALUE=DATE:20210615
DTEND;VALUE=DATE:20210618
DTSTAMP:20260425T180604
CREATED:20210526T065853Z
LAST-MODIFIED:20210920T144637Z
UID:676-1623715200-1623974399@www.pc-scol.fr
SUMMARY:PI Planning 3ième trimestre 2021 (v2.2)
DESCRIPTION:Planification des travaux des équipes à réaliser entre le 21/06 et le 10/09/21
URL:https://www.pc-scol.fr/evenement/pi-planning-3ieme-trimestre-2021-v2-2/
LOCATION:Marseille\, Marseille
CATEGORIES:PI planning
END:VEVENT
END:VCALENDAR