BEGIN:VCALENDAR
VERSION:2.0
PRODID:-//PC-SCOL - ECPv6.2.0.1//NONSGML v1.0//EN
CALSCALE:GREGORIAN
METHOD:PUBLISH
X-WR-CALNAME:PC-SCOL
X-ORIGINAL-URL:https://www.pc-scol.fr
X-WR-CALDESC:évènements pour PC-SCOL
REFRESH-INTERVAL;VALUE=DURATION:PT1H
X-Robots-Tag:noindex
X-PUBLISHED-TTL:PT1H
BEGIN:VTIMEZONE
TZID:UTC
BEGIN:STANDARD
TZOFFSETFROM:+0000
TZOFFSETTO:+0000
TZNAME:UTC
DTSTART:20210101T000000
END:STANDARD
END:VTIMEZONE
BEGIN:VEVENT
DTSTART;TZID=UTC:20210604T100000
DTEND;TZID=UTC:20210604T120000
DTSTAMP:20260425T180412
CREATED:20210520T064924Z
LAST-MODIFIED:20210520T064924Z
UID:661-1622800800-1622808000@www.pc-scol.fr
SUMMARY:Formation COC - Saisie et calcul de notes et résultats - Ecoles
DESCRIPTION:
URL:https://www.pc-scol.fr/evenement/formation-coc-saisie-et-calcul-de-notes-et-resultats-ecoles/
CATEGORIES:Formation
END:VEVENT
BEGIN:VEVENT
DTSTART;TZID=UTC:20210604T140000
DTEND;TZID=UTC:20210604T160000
DTSTAMP:20260425T180412
CREATED:20210520T065105Z
LAST-MODIFIED:20210520T065403Z
UID:663-1622815200-1622822400@www.pc-scol.fr
SUMMARY:Formation COC - Saisie et calcul de notes et résultats - Universités
DESCRIPTION:
URL:https://www.pc-scol.fr/evenement/formation-coc-saisie-et-le-calcul-de-notes-et-resultats-universites/
CATEGORIES:Formation
END:VEVENT
END:VCALENDAR