BEGIN:VCALENDAR
VERSION:2.0
PRODID:-//PC-SCOL - ECPv6.2.0.1//NONSGML v1.0//EN
CALSCALE:GREGORIAN
METHOD:PUBLISH
X-WR-CALNAME:PC-SCOL
X-ORIGINAL-URL:https://www.pc-scol.fr
X-WR-CALDESC:évènements pour PC-SCOL
REFRESH-INTERVAL;VALUE=DURATION:PT1H
X-Robots-Tag:noindex
X-PUBLISHED-TTL:PT1H
BEGIN:VTIMEZONE
TZID:UTC
BEGIN:STANDARD
TZOFFSETFROM:+0000
TZOFFSETTO:+0000
TZNAME:UTC
DTSTART:20210101T000000
END:STANDARD
END:VTIMEZONE
BEGIN:VEVENT
DTSTART;TZID=UTC:20210527T090000
DTEND;TZID=UTC:20210527T120000
DTSTAMP:20260425T192654
CREATED:20210504T071004Z
LAST-MODIFIED:20210504T071004Z
UID:645-1622106000-1622116800@www.pc-scol.fr
SUMMARY:Conférence "Connaître et déployer Pégase"
DESCRIPTION:Connaitre et déployer Pégase – le 27 Mai 2021\n\nA vos agendas ! L’équipe du projet PC- Scol  organise une  web conférence consacrée à la présentation des modules Pégase et son périmètre cible\, ainsi qu’ à la stratégie de déploiement de la solution. Vous pourrez ensuite vous positionner pour la vague de déploiement sur l’année universitaire 2023-2024.\n \n\n1ière partie –  Découvrir Pégase \n\nLa première partie de cette conférence sera dédiée à la présentation du projet et de ses grands principes\, ainsi qu’à la présentation du produit Pégase\, les équipes feront un focus sur les principales fonctionnalités déjà présentes dans les modules de la solution.\n\n\n2ième partie – Organisation en production \n\nLa deuxième partie abordera les points concernant l’hébergement de la solution\, la co-administration et  le support\n\n\n\n\n3ième partie –  Déployer Pégase \n\nLa troisième partie sera consacrée à la présentation de la stratégie de déploiement de la solution Pégase et les modalités de candidature pour une utilisation dès la rentrée universitaire 2023/2024\n\n\n\nCette conférence s’adresse principalement aux directions générales des services\, directions des systèmes d’information\, directions de la vie étudiante et plus globalement\, à tous les acteurs de la vie étudiante. \nPour vous inscrire\, suivez ce lien
URL:https://www.pc-scol.fr/evenement/conference-connaitre-et-deployer-pegase/
LOCATION:Distanciel
END:VEVENT
END:VCALENDAR